Workbook

Sheet Participantes
A1: ID Participante | B1: Nome Completo | C1: Cidade | D1: Telefone | E1: Data de Entrada | F1: Cota Mensal | G1: Ordem de Recebimento | H1: Mês Previsto de Recebimento | I1: Total Pago | J1: Parcelas Pagas | K1: Parcelas em Atraso | L1: Valor em Atraso | M1: Status | N1: Valor Recebido | O1: Observações | P1: Ordem Elegível
A2: P001 | B2: João Silva | C2: São Paulo/SP | D2: (11) 98888-0101 | E2: 46240 | F2: 500 | G2: 1 | H2: 46272 | I2: =IF($A2="","",SUMIFS('Contribuições'!$H$2:$H$101,'Contribuições'!$C$2:$C$101,$A2,'Contribuições'!$E$2:$E$101,"Contribuição",'Contribuições'!$I$2:$I$101,"Pago")) | J2: =IF($A2="","",COUNTIFS('Contribuições'!$C$2:$C$101,$A2,'Contribuições'!$E$2:$E$101,"Contribuição",'Contribuições'!$I$2:$I$101,"Pago")) | K2: =IF($A2="","",IF(TODAY()<$E2,0,MAX(0,DATEDIF($E2,TODAY(),"m")+1-$J2))) | L2: =IF($A2="","",$K2*$F2) | M2: =IF($A2="","",IF($N2>0,"Recebido",IF($L2>0,"Em atraso","Em dia"))) | N2: =IF($A2="","",SUMIFS('Contribuições'!$H$2:$H$101,'Contribuições'!$C$2:$C$101,$A2,'Contribuições'!$E$2:$E$101,"Repasse",'Contribuições'!$I$2:$I$101,"Pago")) | O2: Recebeu por sorteio | P2: =IF($A2="","",IF($N2>0,9999,$G2))
A3: P002 | B3: Maria Oliveira | C3: Rio de Janeiro/RJ | D3: (21) 98888-0202 | E3: 46240 | F3: 500 | G3: 2 | H3: 46286 | I3: =IF($A3="","",SUMIFS('Contribuições'!$H$2:$H$101,'Contribuições'!$C$2:$C$101,$A3,'Contribuições'!$E$2:$E$101,"Contribuição",'Contribuições'!$I$2:$I$101,"Pago")) | J3: =IF($A3="","",COUNTIFS('Contribuições'!$C$2:$C$101,$A3,'Contribuições'!$E$2:$E$101,"Contribuição",'Contribuições'!$I$2:$I$101,"Pago")) | K3: =IF($A3="","",IF(TODAY()<$E3,0,MAX(0,DATEDIF($E3,TODAY(),"m")+1-$J3))) | L3: =IF($A3="","",$K3*$F3) | M3: =IF($A3="","",IF($N3>0,"Recebido",IF($L3>0,"Em atraso","Em dia"))) | N3: =IF($A3="","",SUMIFS('Contribuições'!$H$2:$H$101,'Contribuições'!$C$2:$C$101,$A3,'Contribuições'!$E$2:$E$101,"Repasse",'Contribuições'!$I$2:$I$101,"Pago")) | O3: Aguardando próxima rodada | P3: =IF($A3="","",IF($N3>0,9999,$G3))
A4: P003 | B4: Pedro Santos | C4: Belo Horizonte/MG | D4: (31) 98888-0303 | E4: 46240 | F4: 500 | G4: 3 | H4: 46300 | I4: =IF($A4="","",SUMIFS('Contribuições'!$H$2:$H$101,'Contribuições'!$C$2:$C$101,$A4,'Contribuições'!$E$2:$E$101,"Contribuição",'Contribuições'!$I$2:$I$101,"Pago")) | J4: =IF($A4="","",COUNTIFS('Contribuições'!$C$2:$C$101,$A4,'Contribuições'!$E$2:$E$101,"Contribuição",'Contribuições'!$I$2:$I$101,"Pago")) | K4: =IF($A4="","",IF(TODAY()<$E4,0,MAX(0,DATEDIF($E4,TODAY(),"m")+1-$J4))) | L4: =IF($A4="","",$K4*$F4) | M4: =IF($A4="","",IF($N4>0,"Recebido",IF($L4>0,"Em atraso","Em dia"))) | N4: =IF($A4="","",SUMIFS('Contribuições'!$H$2:$H$101,'Contribuições'!$C$2:$C$101,$A4,'Contribuições'!$E$2:$E$101,"Repasse",'Contribuições'!$I$2:$I$101,"Pago")) | O4: Cadastro confirmado | P4: =IF($A4="","",IF($N4>0,9999,$G4))
A5: P004 | B5: Ana Souza | C5: Curitiba/PR | D5: (41) 98888-0404 | E5: 46240 | F5: 500 | G5: 4 | H5: 46314 | I5: =IF($A5="","",SUMIFS('Contribuições'!$H$2:$H$101,'Contribuições'!$C$2:$C$101,$A5,'Contribuições'!$E$2:$E$101,"Contribuição",'Contribuições'!$I$2:$I$101,"Pago")) | J5: =IF($A5="","",COUNTIFS('Contribuições'!$C$2:$C$101,$A5,'Contribuições'!$E$2:$E$101,"Contribuição",'Contribuições'!$I$2:$I$101,"Pago")) | K5: =IF($A5="","",IF(TODAY()<$E5,0,MAX(0,DATEDIF($E5,TODAY(),"m")+1-$J5))) | L5: =IF($A5="","",$K5*$F5) | M5: =IF($A5="","",IF($N5>0,"Recebido",IF($L5>0,"Em atraso","Em dia"))) | N5: =IF($A5="","",SUMIFS('Contribuições'!$H$2:$H$101,'Contribuições'!$C$2:$C$101,$A5,'Contribuições'!$E$2:$E$101,"Repasse",'Contribuições'!$I$2:$I$101,"Pago")) | O5: Cadastro confirmado | P5: =IF($A5="","",IF($N5>0,9999,$G5))
A6: P005 | B6: Carlos Pereira | C6: Porto Alegre/RS | D6: (51) 98888-0505 | E6: 46240 | F6: 500 | G6: 5 | H6: 46328 | I6: =IF($A6="","",SUMIFS('Contribuições'!$H$2:$H$101,'Contribuições'!$C$2:$C$101,$A6,'Contribuições'!$E$2:$E$101,"Contribuição",'Contribuições'!$I$2:$I$101,"Pago")) | J6: =IF($A6="","",COUNTIFS('Contribuições'!$C$2:$C$101,$A6,'Contribuições'!$E$2:$E$101,"Contribuição",'Contribuições'!$I$2:$I$101,"Pago")) | K6: =IF($A6="","",IF(TODAY()<$E6,0,MAX(0,DATEDIF($E6,TODAY(),"m")+1-$J6))) | L6: =IF($A6="","",$K6*$F6) | M6: =IF($A6="","",IF($N6>0,"Recebido",IF($L6>0,"Em atraso","Em dia"))) | N6: =IF($A6="","",SUMIFS('Contribuições'!$H$2:$H$101,'Contribuições'!$C$2:$C$101,$A6,'Contribuições'!$E$2:$E$101,"Repasse",'Contribuições'!$I$2:$I$101,"Pago")) | O6: Cadastro confirmado | P6: =IF($A6="","",IF($N6>0,9999,$G6))
A7: P006 | B7: Juliana Costa | C7: Salvador/BA | D7: (71) 98888-0606 | E7: 46240 | F7: 500 | G7: 6 | H7: 46342 | I7: =IF($A7="","",SUMIFS('Contribuições'!$H$2:$H$101,'Contribuições'!$C$2:$C$101,$A7,'Contribuições'!$E$2:$E$101,"Contribuição",'Contribuições'!$I$2:$I$101,"Pago")) | J7: =IF($A7="","",COUNTIFS('Contribuições'!$C$2:$C$101,$A7,'Contribuições'!$E$2:$E$101,"Contribuição",'Contribuições'!$I$2:$I$101,"Pago")) | K7: =IF($A7="","",IF(TODAY()<$E7,0,MAX(0,DATEDIF($E7,TODAY(),"m")+1-$J7))) | L7: =IF($A7="","",$K7*$F7) | M7: =IF($A7="","",IF($N7>0,"Recebido",IF($L7>0,"Em atraso","Em dia"))) | N7: =IF($A7="","",SUMIFS('Contribuições'!$H$2:$H$101,'Contribuições'!$C$2:$C$101,$A7,'Contribuições'!$E$2:$E$101,"Repasse",'Contribuições'!$I$2:$I$101,"Pago")) | O7: Cadastro confirmado | P7: =IF($A7="","",IF($N7>0,9999,$G7))
A8: P007 | B8: Rafael Almeida | C8: Recife/PE | D8: (81) 98888-0707 | E8: 46240 | F8: 500 | G8: 7 | H8: 46356 | I8: =IF($A8="","",SUMIFS('Contribuições'!$H$2:$H$101,'Contribuições'!$C$2:$C$101,$A8,'Contribuições'!$E$2:$E$101,"Contribuição",'Contribuições'!$I$2:$I$101,"Pago")) | J8: =IF($A8="","",COUNTIFS('Contribuições'!$C$2:$C$101,$A8,'Contribuições'!$E$2:$E$101,"Contribuição",'Contribuições'!$I$2:$I$101,"Pago")) | K8: =IF($A8="","",IF(TODAY()<$E8,0,MAX(0,DATEDIF($E8,TODAY(),"m")+1-$J8))) | L8: =IF($A8="","",$K8*$F8) | M8: =IF($A8="","",IF($N8>0,"Recebido",IF($L8>0,"Em atraso","Em dia"))) | N8: =IF($A8="","",SUMIFS('Contribuições'!$H$2:$H$101,'Contribuições'!$C$2:$C$101,$A8,'Contribuições'!$E$2:$E$101,"Repasse",'Contribuições'!$I$2:$I$101,"Pago")) | O8: PIX recebido com atraso | P8: =IF($A8="","",IF($N8>0,9999,$G8))
A9: P008 | B9: Camila Ferreira | C9: Brasília/DF | D9: (61) 98888-0808 | E9: 46240 | F9: 500 | G9: 8 | H9: 46370 | I9: =IF($A9="","",SUMIFS('Contribuições'!$H$2:$H$101,'Contribuições'!$C$2:$C$101,$A9,'Contribuições'!$E$2:$E$101,"Contribuição",'Contribuições'!$I$2:$I$101,"Pago")) | J9: =IF($A9="","",COUNTIFS('Contribuições'!$C$2:$C$101,$A9,'Contribuições'!$E$2:$E$101,"Contribuição",'Contribuições'!$I$2:$I$101,"Pago")) | K9: =IF($A9="","",IF(TODAY()<$E9,0,MAX(0,DATEDIF($E9,TODAY(),"m")+1-$J9))) | L9: =IF($A9="","",$K9*$F9) | M9: =IF($A9="","",IF($N9>0,"Recebido",IF($L9>0,"Em atraso","Em dia"))) | N9: =IF($A9="","",SUMIFS('Contribuições'!$H$2:$H$101,'Contribuições'!$C$2:$C$101,$A9,'Contribuições'!$E$2:$E$101,"Repasse",'Contribuições'!$I$2:$I$101,"Pago")) | O9: Acompanhar pendência | P9: =IF($A9="","",IF($N9>0,9999,$G9))
I10: =IF($A10="","",SUMIFS('Contribuições'!$H$2:$H$101,'Contribuições'!$C$2:$C$101,$A10,'Contribuições'!$E$2:$E$101,"Contribuição",'Contribuições'!$I$2:$I$101,"Pago")) | J10: =IF($A10="","",COUNTIFS('Contribuições'!$C$2:$C$101,$A10,'Contribuições'!$E$2:$E$101,"Contribuição",'Contribuições'!$I$2:$I$101,"Pago")) | K10: =IF($A10="","",IF(TODAY()<$E10,0,MAX(0,DATEDIF($E10,TODAY(),"m")+1-$J10))) | L10: =IF($A10="","",$K10*$F10) | M10: =IF($A10="","",IF($N10>0,"Recebido",IF($L10>0,"Em atraso","Em dia"))) | N10: =IF($A10="","",SUMIFS('Contribuições'!$H$2:$H$101,'Contribuições'!$C$2:$C$101,$A10,'Contribuições'!$E$2:$E$101,"Repasse",'Contribuições'!$I$2:$I$101,"Pago")) | P10: =IF($A10="","",IF($N10>0,9999,$G10))
I11: =IF($A11="","",SUMIFS('Contribuições'!$H$2:$H$101,'Contribuições'!$C$2:$C$101,$A11,'Contribuições'!$E$2:$E$101,"Contribuição",'Contribuições'!$I$2:$I$101,"Pago")) | J11: =IF($A11="","",COUNTIFS('Contribuições'!$C$2:$C$101,$A11,'Contribuições'!$E$2:$E$101,"Contribuição",'Contribuições'!$I$2:$I$101,"Pago")) | K11: =IF($A11="","",IF(TODAY()<$E11,0,MAX(0,DATEDIF($E11,TODAY(),"m")+1-$J11))) | L11: =IF($A11="","",$K11*$F11) | M11: =IF($A11="","",IF($N11>0,"Recebido",IF($L11>0,"Em atraso","Em dia"))) | N11: =IF($A11="","",SUMIFS('Contribuições'!$H$2:$H$101,'Contribuições'!$C$2:$C$101,$A11,'Contribuições'!$E$2:$E$101,"Repasse",'Contribuições'!$I$2:$I$101,"Pago")) | P11: =IF($A11="","",IF($N11>0,9999,$G11))
I12: =IF($A12="","",SUMIFS('Contribuições'!$H$2:$H$101,'Contribuições'!$C$2:$C$101,$A12,'Contribuições'!$E$2:$E$101,"Contribuição",'Contribuições'!$I$2:$I$101,"Pago")) | J12: =IF($A12="","",COUNTIFS('Contribuições'!$C$2:$C$101,$A12,'Contribuições'!$E$2:$E$101,"Contribuição",'Contribuições'!$I$2:$I$101,"Pago")) | K12: =IF($A12="","",IF(TODAY()<$E12,0,MAX(0,DATEDIF($E12,TODAY(),"m")+1-$J12))) | L12: =IF($A12="","",$K12*$F12) | M12: =IF($A12="","",IF($N12>0,"Recebido",IF($L12>0,"Em atraso","Em dia"))) | N12: =IF($A12="","",SUMIFS('Contribuições'!$H$2:$H$101,'Contribuições'!$C$2:$C$101,$A12,'Contribuições'!$E$2:$E$101,"Repasse",'Contribuições'!$I$2:$I$101,"Pago")) | P12: =IF($A12="","",IF($N12>0,9999,$G12))
I13: =IF($A13="","",SUMIFS('Contribuições'!$H$2:$H$101,'Contribuições'!$C$2:$C$101,$A13,'Contribuições'!$E$2:$E$101,"Contribuição",'Contribuições'!$I$2:$I$101,"Pago")) | J13: =IF($A13="","",COUNTIFS('Contribuições'!$C$2:$C$101,$A13,'Contribuições'!$E$2:$E$101,"Contribuição",'Contribuições'!$I$2:$I$101,"Pago")) | K13: =IF($A13="","",IF(TODAY()<$E13,0,MAX(0,DATEDIF($E13,TODAY(),"m")+1-$J13))) | L13: =IF($A13="","",$K13*$F13) | M13: =IF($A13="","",IF($N13>0,"Recebido",IF($L13>0,"Em atraso","Em dia"))) | N13: =IF($A13="","",SUMIFS('Contribuições'!$H$2:$H$101,'Contribuições'!$C$2:$C$101,$A13,'Contribuições'!$E$2:$E$101,"Repasse",'Contribuições'!$I$2:$I$101,"Pago")) | P13: =IF($A13="","",IF($N13>0,9999,$G13))
I14: =IF($A14="","",SUMIFS('Contribuições'!$H$2:$H$101,'Contribuições'!$C$2:$C$101,$A14,'Contribuições'!$E$2:$E$101,"Contribuição",'Contribuições'!$I$2:$I$101,"Pago")) | J14: =IF($A14="","",COUNTIFS('Contribuições'!$C$2:$C$101,$A14,'Contribuições'!$E$2:$E$101,"Contribuição",'Contribuições'!$I$2:$I$101,"Pago")) | K14: =IF($A14="","",IF(TODAY()<$E14,0,MAX(0,DATEDIF($E14,TODAY(),"m")+1-$J14))) | L14: =IF($A14="","",$K14*$F14) | M14: =IF($A14="","",IF($N14>0,"Recebido",IF($L14>0,"Em atraso","Em dia"))) | N14: =IF($A14="","",SUMIFS('Contribuições'!$H$2:$H$101,'Contribuições'!$C$2:$C$101,$A14,'Contribuições'!$E$2:$E$101,"Repasse",'Contribuições'!$I$2:$I$101,"Pago")) | P14: =IF($A14="","",IF($N14>0,9999,$G14))
I15: =IF($A15="","",SUMIFS('Contribuições'!$H$2:$H$101,'Contribuições'!$C$2:$C$101,$A15,'Contribuições'!$E$2:$E$101,"Contribuição",'Contribuições'!$I$2:$I$101,"Pago")) | J15: =IF($A15="","",COUNTIFS('Contribuições'!$C$2:$C$101,$A15,'Contribuições'!$E$2:$E$101,"Contribuição",'Contribuições'!$I$2:$I$101,"Pago")) | K15: =IF($A15="","",IF(TODAY()<$E15,0,MAX(0,DATEDIF($E15,TODAY(),"m")+1-$J15))) | L15: =IF($A15="","",$K15*$F15) | M15: =IF($A15="","",IF($N15>0,"Recebido",IF($L15>0,"Em atraso","Em dia"))) | N15: =IF($A15="","",SUMIFS('Contribuições'!$H$2:$H$101,'Contribuições'!$C$2:$C$101,$A15,'Contribuições'!$E$2:$E$101,"Repasse",'Contribuições'!$I$2:$I$101,"Pago")) | P15: =IF($A15="","",IF($N15>0,9999,$G15))
I16: =IF($A16="","",SUMIFS('Contribuições'!$H$2:$H$101,'Contribuições'!$C$2:$C$101,$A16,'Contribuições'!$E$2:$E$101,"Contribuição",'Contribuições'!$I$2:$I$101,"Pago")) | J16: =IF($A16="","",COUNTIFS('Contribuições'!$C$2:$C$101,$A16,'Contribuições'!$E$2:$E$101,"Contribuição",'Contribuições'!$I$2:$I$101,"Pago")) | K16: =IF($A16="","",IF(TODAY()<$E16,0,MAX(0,DATEDIF($E16,TODAY(),"m")+1-$J16))) | L16: =IF($A16="","",$K16*$F16) | M16: =IF($A16="","",IF($N16>0,"Recebido",IF($L16>0,"Em atraso","Em dia"))) | N16: =IF($A16="","",SUMIFS('Contribuições'!$H$2:$H$101,'Contribuições'!$C$2:$C$101,$A16,'Contribuições'!$E$2:$E$101,"Repasse",'Contribuições'!$I$2:$I$101,"Pago")) | P16: =IF($A16="","",IF($N16>0,9999,$G16))
I17: =IF($A17="","",SUMIFS('Contribuições'!$H$2:$H$101,'Contribuições'!$C$2:$C$101,$A17,'Contribuições'!$E$2:$E$101,"Contribuição",'Contribuições'!$I$2:$I$101,"Pago")) | J17: =IF($A17="","",COUNTIFS('Contribuições'!$C$2:$C$101,$A17,'Contribuições'!$E$2:$E$101,"Contribuição",'Contribuições'!$I$2:$I$101,"Pago")) | K17: =IF($A17="","",IF(TODAY()<$E17,0,MAX(0,DATEDIF($E17,TODAY(),"m")+1-$J17))) | L17: =IF($A17="","",$K17*$F17) | M17: =IF($A17="","",IF($N17>0,"Recebido",IF($L17>0,"Em atraso","Em dia"))) | N17: =IF($A17="","",SUMIFS('Contribuições'!$H$2:$H$101,'Contribuições'!$C$2:$C$101,$A17,'Contribuições'!$E$2:$E$101,"Repasse",'Contribuições'!$I$2:$I$101,"Pago")) | P17: =IF($A17="","",IF($N17>0,9999,$G17))
I18: =IF($A18="","",SUMIFS('Contribuições'!$H$2:$H$101,'Contribuições'!$C$2:$C$101,$A18,'Contribuições'!$E$2:$E$101,"Contribuição",'Contribuições'!$I$2:$I$101,"Pago")) | J18: =IF($A18="","",COUNTIFS('Contribuições'!$C$2:$C$101,$A18,'Contribuições'!$E$2:$E$101,"Contribuição",'Contribuições'!$I$2:$I$101,"Pago")) | K18: =IF($A18="","",IF(TODAY()<$E18,0,MAX(0,DATEDIF($E18,TODAY(),"m")+1-$J18))) | L18: =IF($A18="","",$K18*$F18) | M18: =IF($A18="","",IF($N18>0,"Recebido",IF($L18>0,"Em atraso","Em dia"))) | N18: =IF($A18="","",SUMIFS('Contribuições'!$H$2:$H$101,'Contribuições'!$C$2:$C$101,$A18,'Contribuições'!$E$2:$E$101,"Repasse",'Contribuições'!$I$2:$I$101,"Pago")) | P18: =IF($A18="","",IF($N18>0,9999,$G18))
I19: =IF($A19="","",SUMIFS('Contribuições'!$H$2:$H$101,'Contribuições'!$C$2:$C$101,$A19,'Contribuições'!$E$2:$E$101,"Contribuição",'Contribuições'!$I$2:$I$101,"Pago")) | J19: =IF($A19="","",COUNTIFS('Contribuições'!$C$2:$C$101,$A19,'Contribuições'!$E$2:$E$101,"Contribuição",'Contribuições'!$I$2:$I$101,"Pago")) | K19: =IF($A19="","",IF(TODAY()<$E19,0,MAX(0,DATEDIF($E19,TODAY(),"m")+1-$J19))) | L19: =IF($A19="","",$K19*$F19) | M19: =IF($A19="","",IF($N19>0,"Recebido",IF($L19>0,"Em atraso","Em dia"))) | N19: =IF($A19="","",SUMIFS('Contribuições'!$H$2:$H$101,'Contribuições'!$C$2:$C$101,$A19,'Contribuições'!$E$2:$E$101,"Repasse",'Contribuições'!$I$2:$I$101,"Pago")) | P19: =IF($A19="","",IF($N19>0,9999,$G19))
I20: =IF($A20="","",SUMIFS('Contribuições'!$H$2:$H$101,'Contribuições'!$C$2:$C$101,$A20,'Contribuições'!$E$2:$E$101,"Contribuição",'Contribuições'!$I$2:$I$101,"Pago")) | J20: =IF($A20="","",COUNTIFS('Contribuições'!$C$2:$C$101,$A20,'Contribuições'!$E$2:$E$101,"Contribuição",'Contribuições'!$I$2:$I$101,"Pago")) | K20: =IF($A20="","",IF(TODAY()<$E20,0,MAX(0,DATEDIF($E20,TODAY(),"m")+1-$J20))) | L20: =IF($A20="","",$K20*$F20) | M20: =IF($A20="","",IF($N20>0,"Recebido",IF($L20>0,"Em atraso","Em dia"))) | N20: =IF($A20="","",SUMIFS('Contribuições'!$H$2:$H$101,'Contribuições'!$C$2:$C$101,$A20,'Contribuições'!$E$2:$E$101,"Repasse",'Contribuições'!$I$2:$I$101,"Pago")) | P20: =IF($A20="","",IF($N20>0,9999,$G20))
I21: =IF($A21="","",SUMIFS('Contribuições'!$H$2:$H$101,'Contribuições'!$C$2:$C$101,$A21,'Contribuições'!$E$2:$E$101,"Contribuição",'Contribuições'!$I$2:$I$101,"Pago")) | J21: =IF($A21="","",COUNTIFS('Contribuições'!$C$2:$C$101,$A21,'Contribuições'!$E$2:$E$101,"Contribuição",'Contribuições'!$I$2:$I$101,"Pago")) | K21: =IF($A21="","",IF(TODAY()<$E21,0,MAX(0,DATEDIF($E21,TODAY(),"m")+1-$J21))) | L21: =IF($A21="","",$K21*$F21) | M21: =IF($A21="","",IF($N21>0,"Recebido",IF($L21>0,"Em atraso","Em dia"))) | N21: =IF($A21="","",SUMIFS('Contribuições'!$H$2:$H$101,'Contribuições'!$C$2:$C$101,$A21,'Contribuições'!$E$2:$E$101,"Repasse",'Contribuições'!$I$2:$I$101,"Pago")) | P21: =IF($A21="","",IF($N21>0,9999,$G21))
... I101: =IF($A101="","",SUMIFS('Contribuições'!$H$2:$H$101,'Contribuições'!$C$2:$C$101,$A101,'Contribuições'!$E$2:$E$101,"Contribuição",'Contribuições'!$I$2:$I$101,"Pago")) | J101: =IF($A101="","",COUNTIFS('Contribuições'!$C$2:$C$101,$A101,'Contribuições'!$E$2:$E$101,"Contribuição",'Contribuições'!$I$2:$I$101,"Pago")) | K101: =IF($A101="","",IF(TODAY()<$E101,0,MAX(0,DATEDIF($E101,TODAY(),"m")+1-$J101))) | L101: =IF($A101="","",$K101*$F101) | M101: =IF($A101="","",IF($N101>0,"Recebido",IF($L101>0,"Em atraso","Em dia"))) | N101: =IF($A101="","",SUMIFS('Contribuições'!$H$2:$H$101,'Contribuições'!$C$2:$C$101,$A101,'Contribuições'!$E$2:$E$101,"Repasse",'Contribuições'!$I$2:$I$101,"Pago")) | P101: =IF($A101="","",IF($N101>0,9999,$G101))

Sheet Contribuições
A1: ID Lançamento | B1: Competência | C1: ID Participante | D1: Participante | E1: Tipo de Movimento | F1: Data de Vencimento | G1: Data de Pagamento | H1: Valor Pago | I1: Status | J1: Dias de Atraso | K1: Multa/Juros | L1: Valor Total | M1: Comprovante/Observação
A2: CT-001 | B2: 46266 | C2: P001 | D2: =IF($A2="","",IFERROR(VLOOKUP($C2,'Participantes'!$A$2:$B$101,2,FALSE),"Participante não encontrado")) | E2: Contribuição | F2: 46270 | G2: 46270 | H2: 500 | I2: =IF($A2="","",IF($G2<>"","Pago",IF(TODAY()>$F2,"Atrasado","Pendente"))) | J2: =IF($A2="","",IF($G2<>"",MAX(0,$G2-$F2),MAX(0,TODAY()-$F2))) | K2: =IF($A2="","",IF($I2="Atrasado",$H2*0.02,0)) | L2: =IF($A2="","",$H2+$K2) | M2: PIX confirmado
A3: CT-002 | B3: 46266 | C3: P002 | D3: =IF($A3="","",IFERROR(VLOOKUP($C3,'Participantes'!$A$2:$B$101,2,FALSE),"Participante não encontrado")) | E3: Contribuição | F3: 46270 | G3: 46270 | H3: 500 | I3: =IF($A3="","",IF($G3<>"","Pago",IF(TODAY()>$F3,"Atrasado","Pendente"))) | J3: =IF($A3="","",IF($G3<>"",MAX(0,$G3-$F3),MAX(0,TODAY()-$F3))) | K3: =IF($A3="","",IF($I3="Atrasado",$H3*0.02,0)) | L3: =IF($A3="","",$H3+$K3) | M3: PIX confirmado
A4: CT-003 | B4: 46266 | C4: P003 | D4: =IF($A4="","",IFERROR(VLOOKUP($C4,'Participantes'!$A$2:$B$101,2,FALSE),"Participante não encontrado")) | E4: Contribuição | F4: 46270 | G4: 46270 | H4: 500 | I4: =IF($A4="","",IF($G4<>"","Pago",IF(TODAY()>$F4,"Atrasado","Pendente"))) | J4: =IF($A4="","",IF($G4<>"",MAX(0,$G4-$F4),MAX(0,TODAY()-$F4))) | K4: =IF($A4="","",IF($I4="Atrasado",$H4*0.02,0)) | L4: =IF($A4="","",$H4+$K4) | M4: PIX confirmado
A5: CT-004 | B5: 46266 | C5: P004 | D5: =IF($A5="","",IFERROR(VLOOKUP($C5,'Participantes'!$A$2:$B$101,2,FALSE),"Participante não encontrado")) | E5: Contribuição | F5: 46270 | G5: 46270 | H5: 500 | I5: =IF($A5="","",IF($G5<>"","Pago",IF(TODAY()>$F5,"Atrasado","Pendente"))) | J5: =IF($A5="","",IF($G5<>"",MAX(0,$G5-$F5),MAX(0,TODAY()-$F5))) | K5: =IF($A5="","",IF($I5="Atrasado",$H5*0.02,0)) | L5: =IF($A5="","",$H5+$K5) | M5: PIX confirmado
A6: CT-005 | B6: 46266 | C6: P005 | D6: =IF($A6="","",IFERROR(VLOOKUP($C6,'Participantes'!$A$2:$B$101,2,FALSE),"Participante não encontrado")) | E6: Contribuição | F6: 46270 | G6: 46270 | H6: 500 | I6: =IF($A6="","",IF($G6<>"","Pago",IF(TODAY()>$F6,"Atrasado","Pendente"))) | J6: =IF($A6="","",IF($G6<>"",MAX(0,$G6-$F6),MAX(0,TODAY()-$F6))) | K6: =IF($A6="","",IF($I6="Atrasado",$H6*0.02,0)) | L6: =IF($A6="","",$H6+$K6) | M6: PIX confirmado
A7: CT-006 | B7: 46266 | C7: P006 | D7: =IF($A7="","",IFERROR(VLOOKUP($C7,'Participantes'!$A$2:$B$101,2,FALSE),"Participante não encontrado")) | E7: Contribuição | F7: 46270 | G7: 46270 | H7: 500 | I7: =IF($A7="","",IF($G7<>"","Pago",IF(TODAY()>$F7,"Atrasado","Pendente"))) | J7: =IF($A7="","",IF($G7<>"",MAX(0,$G7-$F7),MAX(0,TODAY()-$F7))) | K7: =IF($A7="","",IF($I7="Atrasado",$H7*0.02,0)) | L7: =IF($A7="","",$H7+$K7) | M7: PIX confirmado
A8: CT-007 | B8: 46266 | C8: P007 | D8: =IF($A8="","",IFERROR(VLOOKUP($C8,'Participantes'!$A$2:$B$101,2,FALSE),"Participante não encontrado")) | E8: Contribuição | F8: 46270 | G8: 46272 | H8: 500 | I8: =IF($A8="","",IF($G8<>"","Pago",IF(TODAY()>$F8,"Atrasado","Pendente"))) | J8: =IF($A8="","",IF($G8<>"",MAX(0,$G8-$F8),MAX(0,TODAY()-$F8))) | K8: =IF($A8="","",IF($I8="Atrasado",$H8*0.02,0)) | L8: =IF($A8="","",$H8+$K8) | M8: PIX confirmado com atraso
A9: CT-008 | B9: 46266 | C9: P008 | D9: =IF($A9="","",IFERROR(VLOOKUP($C9,'Participantes'!$A$2:$B$101,2,FALSE),"Participante não encontrado")) | E9: Contribuição | F9: 46270 | I9: =IF($A9="","",IF($G9<>"","Pago",IF(TODAY()>$F9,"Atrasado","Pendente"))) | J9: =IF($A9="","",IF($G9<>"",MAX(0,$G9-$F9),MAX(0,TODAY()-$F9))) | K9: =IF($A9="","",IF($I9="Atrasado",$H9*0.02,0)) | L9: =IF($A9="","",$H9+$K9) | M9: Pagamento pendente
A10: CT-009 | B10: 46296 | C10: P002 | D10: =IF($A10="","",IFERROR(VLOOKUP($C10,'Participantes'!$A$2:$B$101,2,FALSE),"Participante não encontrado")) | E10: Contribuição | F10: 46300 | I10: =IF($A10="","",IF($G10<>"","Pago",IF(TODAY()>$F10,"Atrasado","Pendente"))) | J10: =IF($A10="","",IF($G10<>"",MAX(0,$G10-$F10),MAX(0,TODAY()-$F10))) | K10: =IF($A10="","",IF($I10="Atrasado",$H10*0.02,0)) | L10: =IF($A10="","",$H10+$K10) | M10: Aguardar vencimento
A11: CT-010 | B11: 46266 | C11: P001 | D11: =IF($A11="","",IFERROR(VLOOKUP($C11,'Participantes'!$A$2:$B$101,2,FALSE),"Participante não encontrado")) | E11: Repasse | F11: 46272 | G11: 46272 | H11: 4000 | I11: =IF($A11="","",IF($G11<>"","Pago",IF(TODAY()>$F11,"Atrasado","Pendente"))) | J11: =IF($A11="","",IF($G11<>"",MAX(0,$G11-$F11),MAX(0,TODAY()-$F11))) | K11: =IF($A11="","",IF($I11="Atrasado",$H11*0.02,0)) | L11: =IF($A11="","",$H11+$K11) | M11: Repasse ao primeiro beneficiário
D12: =IF($A12="","",IFERROR(VLOOKUP($C12,'Participantes'!$A$2:$B$101,2,FALSE),"Participante não encontrado")) | I12: =IF($A12="","",IF($G12<>"","Pago",IF(TODAY()>$F12,"Atrasado","Pendente"))) | J12: =IF($A12="","",IF($G12<>"",MAX(0,$G12-$F12),MAX(0,TODAY()-$F12))) | K12: =IF($A12="","",IF($I12="Atrasado",$H12*0.02,0)) | L12: =IF($A12="","",$H12+$K12)
D13: =IF($A13="","",IFERROR(VLOOKUP($C13,'Participantes'!$A$2:$B$101,2,FALSE),"Participante não encontrado")) | I13: =IF($A13="","",IF($G13<>"","Pago",IF(TODAY()>$F13,"Atrasado","Pendente"))) | J13: =IF($A13="","",IF($G13<>"",MAX(0,$G13-$F13),MAX(0,TODAY()-$F13))) | K13: =IF($A13="","",IF($I13="Atrasado",$H13*0.02,0)) | L13: =IF($A13="","",$H13+$K13)
D14: =IF($A14="","",IFERROR(VLOOKUP($C14,'Participantes'!$A$2:$B$101,2,FALSE),"Participante não encontrado")) | I14: =IF($A14="","",IF($G14<>"","Pago",IF(TODAY()>$F14,"Atrasado","Pendente"))) | J14: =IF($A14="","",IF($G14<>"",MAX(0,$G14-$F14),MAX(0,TODAY()-$F14))) | K14: =IF($A14="","",IF($I14="Atrasado",$H14*0.02,0)) | L14: =IF($A14="","",$H14+$K14)
D15: =IF($A15="","",IFERROR(VLOOKUP($C15,'Participantes'!$A$2:$B$101,2,FALSE),"Participante não encontrado")) | I15: =IF($A15="","",IF($G15<>"","Pago",IF(TODAY()>$F15,"Atrasado","Pendente"))) | J15: =IF($A15="","",IF($G15<>"",MAX(0,$G15-$F15),MAX(0,TODAY()-$F15))) | K15: =IF($A15="","",IF($I15="Atrasado",$H15*0.02,0)) | L15: =IF($A15="","",$H15+$K15)
D16: =IF($A16="","",IFERROR(VLOOKUP($C16,'Participantes'!$A$2:$B$101,2,FALSE),"Participante não encontrado")) | I16: =IF($A16="","",IF($G16<>"","Pago",IF(TODAY()>$F16,"Atrasado","Pendente"))) | J16: =IF($A16="","",IF($G16<>"",MAX(0,$G16-$F16),MAX(0,TODAY()-$F16))) | K16: =IF($A16="","",IF($I16="Atrasado",$H16*0.02,0)) | L16: =IF($A16="","",$H16+$K16)
D17: =IF($A17="","",IFERROR(VLOOKUP($C17,'Participantes'!$A$2:$B$101,2,FALSE),"Participante não encontrado")) | I17: =IF($A17="","",IF($G17<>"","Pago",IF(TODAY()>$F17,"Atrasado","Pendente"))) | J17: =IF($A17="","",IF($G17<>"",MAX(0,$G17-$F17),MAX(0,TODAY()-$F17))) | K17: =IF($A17="","",IF($I17="Atrasado",$H17*0.02,0)) | L17: =IF($A17="","",$H17+$K17)
D18: =IF($A18="","",IFERROR(VLOOKUP($C18,'Participantes'!$A$2:$B$101,2,FALSE),"Participante não encontrado")) | I18: =IF($A18="","",IF($G18<>"","Pago",IF(TODAY()>$F18,"Atrasado","Pendente"))) | J18: =IF($A18="","",IF($G18<>"",MAX(0,$G18-$F18),MAX(0,TODAY()-$F18))) | K18: =IF($A18="","",IF($I18="Atrasado",$H18*0.02,0)) | L18: =IF($A18="","",$H18+$K18)
D19: =IF($A19="","",IFERROR(VLOOKUP($C19,'Participantes'!$A$2:$B$101,2,FALSE),"Participante não encontrado")) | I19: =IF($A19="","",IF($G19<>"","Pago",IF(TODAY()>$F19,"Atrasado","Pendente"))) | J19: =IF($A19="","",IF($G19<>"",MAX(0,$G19-$F19),MAX(0,TODAY()-$F19))) | K19: =IF($A19="","",IF($I19="Atrasado",$H19*0.02,0)) | L19: =IF($A19="","",$H19+$K19)
D20: =IF($A20="","",IFERROR(VLOOKUP($C20,'Participantes'!$A$2:$B$101,2,FALSE),"Participante não encontrado")) | I20: =IF($A20="","",IF($G20<>"","Pago",IF(TODAY()>$F20,"Atrasado","Pendente"))) | J20: =IF($A20="","",IF($G20<>"",MAX(0,$G20-$F20),MAX(0,TODAY()-$F20))) | K20: =IF($A20="","",IF($I20="Atrasado",$H20*0.02,0)) | L20: =IF($A20="","",$H20+$K20)
D21: =IF($A21="","",IFERROR(VLOOKUP($C21,'Participantes'!$A$2:$B$101,2,FALSE),"Participante não encontrado")) | I21: =IF($A21="","",IF($G21<>"","Pago",IF(TODAY()>$F21,"Atrasado","Pendente"))) | J21: =IF($A21="","",IF($G21<>"",MAX(0,$G21-$F21),MAX(0,TODAY()-$F21))) | K21: =IF($A21="","",IF($I21="Atrasado",$H21*0.02,0)) | L21: =IF($A21="","",$H21+$K21)
D22: =IF($A22="","",IFERROR(VLOOKUP($C22,'Participantes'!$A$2:$B$101,2,FALSE),"Participante não encontrado")) | I22: =IF($A22="","",IF($G22<>"","Pago",IF(TODAY()>$F22,"Atrasado","Pendente"))) | J22: =IF($A22="","",IF($G22<>"",MAX(0,$G22-$F22),MAX(0,TODAY()-$F22))) | K22: =IF($A22="","",IF($I22="Atrasado",$H22*0.02,0)) | L22: =IF($A22="","",$H22+$K22)
D23: =IF($A23="","",IFERROR(VLOOKUP($C23,'Participantes'!$A$2:$B$101,2,FALSE),"Participante não encontrado")) | I23: =IF($A23="","",IF($G23<>"","Pago",IF(TODAY()>$F23,"Atrasado","Pendente"))) | J23: =IF($A23="","",IF($G23<>"",MAX(0,$G23-$F23),MAX(0,TODAY()-$F23))) | K23: =IF($A23="","",IF($I23="Atrasado",$H23*0.02,0)) | L23: =IF($A23="","",$H23+$K23)
... D101: =IF($A101="","",IFERROR(VLOOKUP($C101,'Participantes'!$A$2:$B$101,2,FALSE),"Participante não encontrado")) | I101: =IF($A101="","",IF($G101<>"","Pago",IF(TODAY()>$F101,"Atrasado","Pendente"))) | J101: =IF($A101="","",IF($G101<>"",MAX(0,$G101-$F101),MAX(0,TODAY()-$F101))) | K101: =IF($A101="","",IF($I101="Atrasado",$H101*0.02,0)) | L101: =IF($A101="","",$H101+$K101)

Sheet Painel
A1: Painel do Consórcio entre Amigos
A2: Indicador | B2: Valor
A3: Total de Participantes | B3: =COUNTA('Participantes'!$A$2:$A$101)
A4: Valor Mensal Esperado | B4: =SUM('Participantes'!$F$2:$F$101)
A5: Total Arrecadado | B5: =SUMIF('Contribuições'!$E$2:$E$101,"Contribuição",'Contribuições'!$H$2:$H$101)
A6: Total em Atraso | B6: =SUM('Participantes'!$L$2:$L$101)
A7: Percentual de Adimplência | B7: =IFERROR(COUNTIF('Participantes'!$M$2:$M$101,"Em dia")/COUNTA('Participantes'!$A$2:$A$101),0)
A8: Caixa Disponível | B8: =SUMIF('Contribuições'!$E$2:$E$101,"Contribuição",'Contribuições'!$H$2:$H$101)-SUMIF('Contribuições'!$E$2:$E$101,"Repasse",'Contribuições'!$H$2:$H$101)
A9: Próximo Beneficiário | B9: =IF(COUNTIF('Participantes'!$M$2:$M$101,"Recebido")=COUNTA('Participantes'!$A$2:$A$101),"A definir",IFERROR(INDEX('Participantes'!$B$2:$B$101,MATCH(MIN('Participantes'!$P$2:$P$101),'Participantes'!$P$2:$P$101,0)),"A definir"))
A10: Ticket Médio Pago | B10: =IFERROR(AVERAGE('Contribuições'!$H$2:$H$101),0)
E13: Status dos Participantes | F13: Quantidade | H13: Competência | I13: Arrecadação Confirmada
E14: Em dia | F14: =COUNTIF('Participantes'!$M$2:$M$101,E14) | H14: 46023 | I14: =SUMIFS('Contribuições'!$H$2:$H$101,'Contribuições'!$B$2:$B$101,$H14,'Contribuições'!$E$2:$E$101,"Contribuição",'Contribuições'!$I$2:$I$101,"Pago")
E15: Em atraso | F15: =COUNTIF('Participantes'!$M$2:$M$101,E15) | H15: 46054 | I15: =SUMIFS('Contribuições'!$H$2:$H$101,'Contribuições'!$B$2:$B$101,$H15,'Contribuições'!$E$2:$E$101,"Contribuição",'Contribuições'!$I$2:$I$101,"Pago")
E16: Recebido | F16: =COUNTIF('Participantes'!$M$2:$M$101,E16) | H16: 46082 | I16: =SUMIFS('Contribuições'!$H$2:$H$101,'Contribuições'!$B$2:$B$101,$H16,'Contribuições'!$E$2:$E$101,"Contribuição",'Contribuições'!$I$2:$I$101,"Pago")
H17: 46113 | I17: =SUMIFS('Contribuições'!$H$2:$H$101,'Contribuições'!$B$2:$B$101,$H17,'Contribuições'!$E$2:$E$101,"Contribuição",'Contribuições'!$I$2:$I$101,"Pago")
H18: 46143 | I18: =SUMIFS('Contribuições'!$H$2:$H$101,'Contribuições'!$B$2:$B$101,$H18,'Contribuições'!$E$2:$E$101,"Contribuição",'Contribuições'!$I$2:$I$101,"Pago")
H19: 46174 | I19: =SUMIFS('Contribuições'!$H$2:$H$101,'Contribuições'!$B$2:$B$101,$H19,'Contribuições'!$E$2:$E$101,"Contribuição",'Contribuições'!$I$2:$I$101,"Pago")
H20: 46204 | I20: =SUMIFS('Contribuições'!$H$2:$H$101,'Contribuições'!$B$2:$B$101,$H20,'Contribuições'!$E$2:$E$101,"Contribuição",'Contribuições'!$I$2:$I$101,"Pago")
H21: 46235 | I21: =SUMIFS('Contribuições'!$H$2:$H$101,'Contribuições'!$B$2:$B$101,$H21,'Contribuições'!$E$2:$E$101,"Contribuição",'Contribuições'!$I$2:$I$101,"Pago")
H22: 46266 | I22: =SUMIFS('Contribuições'!$H$2:$H$101,'Contribuições'!$B$2:$B$101,$H22,'Contribuições'!$E$2:$E$101,"Contribuição",'Contribuições'!$I$2:$I$101,"Pago")
H23: 46296 | I23: =SUMIFS('Contribuições'!$H$2:$H$101,'Contribuições'!$B$2:$B$101,$H23,'Contribuições'!$E$2:$E$101,"Contribuição",'Contribuições'!$I$2:$I$101,"Pago")
H24: 46327 | I24: =SUMIFS('Contribuições'!$H$2:$H$101,'Contribuições'!$B$2:$B$101,$H24,'Contribuições'!$E$2:$E$101,"Contribuição",'Contribuições'!$I$2:$I$101,"Pago")
H25: 46357 | I25: =SUMIFS('Contribuições'!$H$2:$H$101,'Contribuições'!$B$2:$B$101,$H25,'Contribuições'!$E$2:$E$101,"Contribuição",'Contribuições'!$I$2:$I$101,"Pago")

Sheet Instruções
A1: Olá! Guia rápido do Consórcio entre Amigos
A3: 1. Comece pelo cadastro
A4: Na aba Participantes, informe os dados do grupo, a cota mensal, a ordem de recebimento e o mês previsto. As células amarelas são os campos para preencher ou atualizar.
A6: 2. Registre cada movimento
A7: Na aba Contribuições, lance pagamentos, pendências, multas, repasses e devoluções. Use o ID do participante para preencher o nome automaticamente e guarde a referência do PIX ou recibo.
A9: 3. Acompanhe o painel
A10: A aba Painel mostra participantes, arrecadação, atrasos, caixa disponível, próximo beneficiário e gráficos. Revise o caixa antes de liberar qualquer repasse.
A12: 4. Formalizem os combinados
A13: Registrem por escrito o valor da cota, a data de vencimento, os critérios de sorteio, a ordem de recebimento e as regras para atraso. Multas, juros e mudanças na ordem devem ser aprovados por todos.
A15: 5. Atenção ao caráter particular
A16: Este controle apoia um acordo particular entre amigos e não substitui consórcio regulamentado por instituição autorizada. Em caso de dúvida, busquem orientação adequada antes de assumir compromissos.
A18: 6. Privacidade e LGPD
... A22: Atualize os lançamentos sempre que houver um PIX, recibo ou decisão do grupo. Assim, os totais, atrasos e gráficos ficam prontos para a próxima conversa.
